BEGIN:VCALENDAR
VERSION:2.0
PRODID:-//Grundschule Curslack-Neuengamme - ECPv6.15.20//NONSGML v1.0//EN
CALSCALE:GREGORIAN
METHOD:PUBLISH
X-WR-CALNAME:Grundschule Curslack-Neuengamme
X-ORIGINAL-URL:https://gs-cn.de
X-WR-CALDESC:Veranstaltungen für Grundschule Curslack-Neuengamme
REFRESH-INTERVAL;VALUE=DURATION:PT1H
X-Robots-Tag:noindex
X-PUBLISHED-TTL:PT1H
BEGIN:VTIMEZONE
TZID:UTC
BEGIN:STANDARD
TZOFFSETFROM:+0000
TZOFFSETTO:+0000
TZNAME:UTC
DTSTART:20240101T000000
END:STANDARD
END:VTIMEZONE
BEGIN:VEVENT
DTSTART;VALUE=DATE:20250422
DTEND;VALUE=DATE:20250426
DTSTAMP:20260424T225917
CREATED:20240918T113310Z
LAST-MODIFIED:20240918T113310Z
UID:4098-1745280000-1745625599@gs-cn.de
SUMMARY:Projektwoche: Lesewoche
DESCRIPTION:Projektwoche: Lesewoche
URL:https://gs-cn.de/event/projektwoche-lesewoche/
LOCATION:Hamburg
END:VEVENT
END:VCALENDAR