BEGIN:VCALENDAR
VERSION:2.0
PRODID:-//Grundschule Curslack-Neuengamme - ECPv6.15.20//NONSGML v1.0//EN
CALSCALE:GREGORIAN
METHOD:PUBLISH
X-ORIGINAL-URL:https://gs-cn.de
X-WR-CALDESC:Veranstaltungen für Grundschule Curslack-Neuengamme
REFRESH-INTERVAL;VALUE=DURATION:PT1H
X-Robots-Tag:noindex
X-PUBLISHED-TTL:PT1H
BEGIN:VTIMEZONE
TZID:UTC
BEGIN:STANDARD
TZOFFSETFROM:+0000
TZOFFSETTO:+0000
TZNAME:UTC
DTSTART:20240101T000000
END:STANDARD
END:VTIMEZONE
BEGIN:VEVENT
DTSTART;TZID=UTC:20250711T090000
DTEND;TZID=UTC:20250711T160000
DTSTAMP:20260425T004152
CREATED:20250610T092017Z
LAST-MODIFIED:20250619T070413Z
UID:5292-1752224400-1752249600@gs-cn.de
SUMMARY:Fußballturnier der GBS
DESCRIPTION:Liebe Schüler\, Eltern und Sportbegeisterte\, \nwir freuen uns\, euch zur Fußballmeisterschaft unserer GBS einzuladen! Die Veranstaltung findet am 11. Juli 2025 von 9 Uhr bis 16 Uhr auf der Sportanlage Sander Tannen statt. \nIn diesem Jahr treten insgesamt drei Mannschaften aus unserer Schule an: zwei Jungsmannschaften und eine Mädchenmannschaft. Unsere talentierten Trainer werden selbstverständlich vor Ort sein\, um die Spieler zu unterstützen und das Beste aus jedem Team herauszuholen. \nBitte kommt zahlreich und feuert unsere Mannschaften an! \nWir freuen uns auf einen spannenden Tag voller Fußball\, Teamgeist und aufregender Spiele! \nMit sportlichen Grüßen\,\nEuer GBS-Team am Nachmittag
URL:https://gs-cn.de/event/fussballturnier-der-gbs/
LOCATION:Hamburg
END:VEVENT
END:VCALENDAR