BEGIN:VCALENDAR
VERSION:2.0
PRODID:-//Grundschule Curslack-Neuengamme - ECPv6.15.20//NONSGML v1.0//EN
CALSCALE:GREGORIAN
METHOD:PUBLISH
X-ORIGINAL-URL:https://gs-cn.de
X-WR-CALDESC:Veranstaltungen für Grundschule Curslack-Neuengamme
REFRESH-INTERVAL;VALUE=DURATION:PT1H
X-Robots-Tag:noindex
X-PUBLISHED-TTL:PT1H
BEGIN:VTIMEZONE
TZID:UTC
BEGIN:STANDARD
TZOFFSETFROM:+0000
TZOFFSETTO:+0000
TZNAME:UTC
DTSTART:20240101T000000
END:STANDARD
END:VTIMEZONE
BEGIN:VEVENT
DTSTART;VALUE=DATE:20251105
DTEND;VALUE=DATE:20260124
DTSTAMP:20260425T023308
CREATED:20250930T161002Z
LAST-MODIFIED:20250930T161002Z
UID:5574-1762300800-1769212799@gs-cn.de
SUMMARY:Anmeldung der Kinder für die Vorschule im Schuljahr 2026/27
DESCRIPTION:Anmeldung der Kinder für die Vorschule im Schuljahr 2026/27
URL:https://gs-cn.de/event/anmeldung-der-kinder-fuer-die-vorschule-im-schuljahr-2026-27/
LOCATION:Hamburg
END:VEVENT
BEGIN:VEVENT
DTSTART;TZID=UTC:20251126T160000
DTEND;TZID=UTC:20251126T180000
DTSTAMP:20260425T023308
CREATED:20250930T161436Z
LAST-MODIFIED:20251105T080744Z
UID:5586-1764172800-1764180000@gs-cn.de
SUMMARY:Tag der offenen Tür
DESCRIPTION:Tag der offenen Tür für alle Kinder und Eltern der Schule und interessierte Familien mit zukünftigen Schulkindern. \nSIE ERWARTET EIN BUNTES SCHULFEST: \n\nEntdecken Sie unser Schulgelände zusammen mit unserer Schulleitung und erfahren Aktuelles zum Neu- und Umbau\nLernen Sie unsere tolle Schulgemeinschaft kennen\nBesuchen Sie die Ausstellungen\, Bastel- und Schnupperangebote unserer Klassen\nErkunden Sie die bunte Welt der Mathematik in unserer Sinuswerkstatt\nErfahren Sie Interessantes über die Ganztagsbetreuung an unserer Schule\nLassen Sie sich verzaubern von einer Aufführung der Artistengruppe\nGenießen Sie süße Leckereien und stärken sich mit einem vorweihnachtlichen Punsch\nSie haben Fragen? Kein Problem! Lernen Sie unser Team aus Lehrkräften und Erzieher/innen in persönlichen Gesprächen kennen und unterhalten Sie sich mit Mitgliedern unseres Elternrats\n\nTag der offenen Tür
URL:https://gs-cn.de/event/tag-der-offenen-tuer-2/
LOCATION:Grundschule Curslack-Neuengamme\, Gramkowweg 5\, Hamburg\, 21039\, Deutschland
END:VEVENT
END:VCALENDAR