BEGIN:VCALENDAR
VERSION:2.0
PRODID:-//Grundschule Curslack-Neuengamme - ECPv6.15.20//NONSGML v1.0//EN
CALSCALE:GREGORIAN
METHOD:PUBLISH
X-ORIGINAL-URL:https://gs-cn.de
X-WR-CALDESC:Veranstaltungen für Grundschule Curslack-Neuengamme
REFRESH-INTERVAL;VALUE=DURATION:PT1H
X-Robots-Tag:noindex
X-PUBLISHED-TTL:PT1H
BEGIN:VTIMEZONE
TZID:UTC
BEGIN:STANDARD
TZOFFSETFROM:+0000
TZOFFSETTO:+0000
TZNAME:UTC
DTSTART:20250101T000000
END:STANDARD
END:VTIMEZONE
BEGIN:VEVENT
DTSTART;VALUE=DATE:20260201
DTEND;VALUE=DATE:20260401
DTSTAMP:20260424T213315
CREATED:20250930T162842Z
LAST-MODIFIED:20250930T162842Z
UID:5605-1769904000-1775001599@gs-cn.de
SUMMARY:Alle Eltern (Klassen 1-3) buchen die Ganztagsbetreuung (GBS) für das neue Schulj.
DESCRIPTION:Alle Eltern (Klassen 1-3) buchen die Ganztagsbetreuung (GBS) für das neue\nSchulj.
URL:https://gs-cn.de/event/alle-eltern-klassen-1-3-buchen-die-ganztagsbetreuung-gbs-fuer-das-neue-schulj/
LOCATION:Hamburg
END:VEVENT
BEGIN:VEVENT
DTSTART;VALUE=DATE:20260202
DTEND;VALUE=DATE:20260203
DTSTAMP:20260424T213315
CREATED:20250930T163210Z
LAST-MODIFIED:20250930T163210Z
UID:5613-1769990400-1770076799@gs-cn.de
SUMMARY:Studientag für alle Erzieher/innen (Kein Mittagessen\, keine Notbetreuung)
DESCRIPTION:Studientag für alle Erzieher/innen (Kein Mittagessen\, keine Notbetreuung)
URL:https://gs-cn.de/event/studientag-fuer-alle-erzieher-innen-kein-mittagessen-keine-notbetreuung-2/
LOCATION:Hamburg
END:VEVENT
BEGIN:VEVENT
DTSTART;VALUE=DATE:20260202
DTEND;VALUE=DATE:20260207
DTSTAMP:20260424T213315
CREATED:20250930T162936Z
LAST-MODIFIED:20250930T162936Z
UID:5607-1769990400-1770422399@gs-cn.de
SUMMARY:Lernentwicklungsgespräche
DESCRIPTION:Lernentwicklungsgespräche VSK\, Klassen 1a/b/c\, 2a/b/c/d und 3a/b/c
URL:https://gs-cn.de/event/lernentwicklungsgespraeche-2/
LOCATION:Hamburg
END:VEVENT
BEGIN:VEVENT
DTSTART;VALUE=DATE:20260202
DTEND;VALUE=DATE:20260207
DTSTAMP:20260424T213315
CREATED:20250930T163128Z
LAST-MODIFIED:20250930T163128Z
UID:5611-1769990400-1770422399@gs-cn.de
SUMMARY:Anmeldung der Viertklässler an den weiterführenden Schulen
DESCRIPTION:Anmeldung der Viertklässler an den weiterführenden Schulen
URL:https://gs-cn.de/event/anmeldung-der-viertklaessler-an-den-weiterfuehrenden-schulen/
LOCATION:Hamburg
END:VEVENT
END:VCALENDAR