BEGIN:VCALENDAR
VERSION:2.0
PRODID:-//Grundschule Curslack-Neuengamme - ECPv6.15.20//NONSGML v1.0//EN
CALSCALE:GREGORIAN
METHOD:PUBLISH
X-ORIGINAL-URL:https://gs-cn.de
X-WR-CALDESC:Veranstaltungen für Grundschule Curslack-Neuengamme
REFRESH-INTERVAL;VALUE=DURATION:PT1H
X-Robots-Tag:noindex
X-PUBLISHED-TTL:PT1H
BEGIN:VTIMEZONE
TZID:UTC
BEGIN:STANDARD
TZOFFSETFROM:+0000
TZOFFSETTO:+0000
TZNAME:UTC
DTSTART:20250101T000000
END:STANDARD
END:VTIMEZONE
BEGIN:VEVENT
DTSTART;VALUE=DATE:20260201
DTEND;VALUE=DATE:20260401
DTSTAMP:20260424T193210
CREATED:20250930T162842Z
LAST-MODIFIED:20250930T162842Z
UID:5605-1769904000-1775001599@gs-cn.de
SUMMARY:Alle Eltern (Klassen 1-3) buchen die Ganztagsbetreuung (GBS) für das neue Schulj.
DESCRIPTION:Alle Eltern (Klassen 1-3) buchen die Ganztagsbetreuung (GBS) für das neue\nSchulj.
URL:https://gs-cn.de/event/alle-eltern-klassen-1-3-buchen-die-ganztagsbetreuung-gbs-fuer-das-neue-schulj/
LOCATION:Hamburg
END:VEVENT
BEGIN:VEVENT
DTSTART;TZID=UTC:20260223T190000
DTEND;TZID=UTC:20260223T210000
DTSTAMP:20260424T193210
CREATED:20251114T114922Z
LAST-MODIFIED:20251114T114922Z
UID:5802-1771873200-1771880400@gs-cn.de
SUMMARY:Elternratssitzung
DESCRIPTION:
URL:https://gs-cn.de/event/elternratssitzung-2/
LOCATION:Aula der Grundschule Curslack\, Gramkowweg 5\, Neuengamme\, Hamburg\, 21039\, Deutschland
END:VEVENT
END:VCALENDAR