BEGIN:VCALENDAR
VERSION:2.0
PRODID:-//Grundschule Curslack-Neuengamme - ECPv6.15.20//NONSGML v1.0//EN
CALSCALE:GREGORIAN
METHOD:PUBLISH
X-ORIGINAL-URL:https://gs-cn.de
X-WR-CALDESC:Veranstaltungen für Grundschule Curslack-Neuengamme
REFRESH-INTERVAL;VALUE=DURATION:PT1H
X-Robots-Tag:noindex
X-PUBLISHED-TTL:PT1H
BEGIN:VTIMEZONE
TZID:UTC
BEGIN:STANDARD
TZOFFSETFROM:+0000
TZOFFSETTO:+0000
TZNAME:UTC
DTSTART:20250101T000000
END:STANDARD
END:VTIMEZONE
BEGIN:VEVENT
DTSTART;TZID=UTC:20260520T190000
DTEND;TZID=UTC:20260520T210000
DTSTAMP:20260424T192110
CREATED:20251114T115147Z
LAST-MODIFIED:20251114T115147Z
UID:5806-1779303600-1779310800@gs-cn.de
SUMMARY:Elternratssitzung
DESCRIPTION:
URL:https://gs-cn.de/event/elternratssitzung-4/
LOCATION:Aula der Grundschule Curslack\, Gramkowweg 5\, Neuengamme\, Hamburg\, 21039\, Deutschland
END:VEVENT
END:VCALENDAR