BEGIN:VCALENDAR
VERSION:2.0
PRODID:-//Grundschule Curslack-Neuengamme - ECPv6.15.20//NONSGML v1.0//EN
CALSCALE:GREGORIAN
METHOD:PUBLISH
X-ORIGINAL-URL:https://gs-cn.de
X-WR-CALDESC:Veranstaltungen für Grundschule Curslack-Neuengamme
REFRESH-INTERVAL;VALUE=DURATION:PT1H
X-Robots-Tag:noindex
X-PUBLISHED-TTL:PT1H
BEGIN:VTIMEZONE
TZID:UTC
BEGIN:STANDARD
TZOFFSETFROM:+0000
TZOFFSETTO:+0000
TZNAME:UTC
DTSTART:20250101T000000
END:STANDARD
END:VTIMEZONE
BEGIN:VEVENT
DTSTART;VALUE=DATE:20260708
DTEND;VALUE=DATE:20260709
DTSTAMP:20260424T225646
CREATED:20250930T164428Z
LAST-MODIFIED:20250930T164428Z
UID:5638-1783468800-1783555199@gs-cn.de
SUMMARY:Letzter Schultag vor den Sommerferien\, Verabschiedung der Viertklässler
DESCRIPTION:Letzter Schultag vor den Sommerferien\, Verabschiedung der Viertklässler
URL:https://gs-cn.de/event/letzter-schultag-vor-den-sommerferien-verabschiedung-der-viertklaessler/
LOCATION:Hamburg
END:VEVENT
END:VCALENDAR