BEGIN:VCALENDAR
VERSION:2.0
PRODID:-//Grundschule Curslack-Neuengamme - ECPv6.15.20//NONSGML v1.0//EN
CALSCALE:GREGORIAN
METHOD:PUBLISH
X-ORIGINAL-URL:https://gs-cn.de
X-WR-CALDESC:Veranstaltungen für Grundschule Curslack-Neuengamme
REFRESH-INTERVAL;VALUE=DURATION:PT1H
X-Robots-Tag:noindex
X-PUBLISHED-TTL:PT1H
BEGIN:VTIMEZONE
TZID:UTC
BEGIN:STANDARD
TZOFFSETFROM:+0000
TZOFFSETTO:+0000
TZNAME:UTC
DTSTART:20250101T000000
END:STANDARD
END:VTIMEZONE
BEGIN:VEVENT
DTSTART;VALUE=DATE:20260709
DTEND;VALUE=DATE:20260820
DTSTAMP:20260425T004951
CREATED:20250930T164626Z
LAST-MODIFIED:20250930T164626Z
UID:5640-1783555200-1787183999@gs-cn.de
SUMMARY:Sommerferien
DESCRIPTION:S o m m e r f e r i e n\n10.07. Studientag für alle Erzieher/innen (mit Notbetreuung)\n03.08.-14.08. Schließzeit der Ganztagsbetreuung (GBS) – Betreuung findet in Altengamme statt
URL:https://gs-cn.de/event/sommerferien/
LOCATION:Hamburg
END:VEVENT
END:VCALENDAR