BEGIN:VCALENDAR
VERSION:2.0
PRODID:-//Grundschule Curslack-Neuengamme - ECPv6.15.20//NONSGML v1.0//EN
CALSCALE:GREGORIAN
METHOD:PUBLISH
X-WR-CALNAME:Grundschule Curslack-Neuengamme
X-ORIGINAL-URL:https://gs-cn.de
X-WR-CALDESC:Veranstaltungen für Grundschule Curslack-Neuengamme
REFRESH-INTERVAL;VALUE=DURATION:PT1H
X-Robots-Tag:noindex
X-PUBLISHED-TTL:PT1H
BEGIN:VTIMEZONE
TZID:UTC
BEGIN:STANDARD
TZOFFSETFROM:+0000
TZOFFSETTO:+0000
TZNAME:UTC
DTSTART:20240101T000000
END:STANDARD
END:VTIMEZONE
BEGIN:VEVENT
DTSTART;VALUE=DATE:20260415
DTEND;VALUE=DATE:20260416
DTSTAMP:20260424T155920
CREATED:20260319T072053Z
LAST-MODIFIED:20260319T072323Z
UID:6214-1776211200-1776297599@gs-cn.de
SUMMARY:Frühjahrssingen
DESCRIPTION:
URL:https://gs-cn.de/event/fruehlingssingen/
LOCATION:Aula der Grundschule Curslack\, Gramkowweg 5\, Neuengamme\, Hamburg\, 21039\, Deutschland
END:VEVENT
BEGIN:VEVENT
DTSTART;TZID=UTC:20260409T190000
DTEND;TZID=UTC:20260409T210000
DTSTAMP:20260424T155920
CREATED:20251114T115006Z
LAST-MODIFIED:20251114T115101Z
UID:5804-1775761200-1775768400@gs-cn.de
SUMMARY:Elternratssitzung
DESCRIPTION:
URL:https://gs-cn.de/event/elternratssitzung-3/
LOCATION:Aula der Grundschule Curslack\, Gramkowweg 5\, Neuengamme\, Hamburg\, 21039\, Deutschland
END:VEVENT
BEGIN:VEVENT
DTSTART;VALUE=DATE:20260403
DTEND;VALUE=DATE:20260407
DTSTAMP:20260424T155920
CREATED:20250930T163450Z
LAST-MODIFIED:20250930T163450Z
UID:5621-1775174400-1775519999@gs-cn.de
SUMMARY:F e i e r t a g e (Keine Betreuung in der Schule)
DESCRIPTION:F e i e r t a g e (Keine Betreuung in der Schule)
URL:https://gs-cn.de/event/f-e-i-e-r-t-a-g-e-keine-betreuung-in-der-schule/
LOCATION:Hamburg
END:VEVENT
BEGIN:VEVENT
DTSTART;VALUE=DATE:20260323
DTEND;VALUE=DATE:20260328
DTSTAMP:20260424T155920
CREATED:20250930T163410Z
LAST-MODIFIED:20250930T163410Z
UID:5619-1774224000-1774655999@gs-cn.de
SUMMARY:Projektwoche „Trommeln“
DESCRIPTION:Projektwoche „Trommeln“\nFreitag: Vorführung am Nachmittag für alle Eltern und Kinder der Schule
URL:https://gs-cn.de/event/projektwoche-trommeln/
LOCATION:Hamburg
END:VEVENT
BEGIN:VEVENT
DTSTART;VALUE=DATE:20260302
DTEND;VALUE=DATE:20260314
DTSTAMP:20260424T155920
CREATED:20250930T163331Z
LAST-MODIFIED:20250930T163331Z
UID:5617-1772409600-1773446399@gs-cn.de
SUMMARY:F r ü h j a h r s f e r i e n
DESCRIPTION:F r ü h j a h r s f e r i e n\nIm Rahmen der Ganztagsbetreuung (GBS) wird ein Ferienprogramm angeboten\,\nEltern können im November die Betreuung für ihre Kinder buchen.
URL:https://gs-cn.de/event/f-r-ue-h-j-a-h-r-s-f-e-r-i-e-n/
LOCATION:Hamburg
END:VEVENT
BEGIN:VEVENT
DTSTART;TZID=UTC:20260223T190000
DTEND;TZID=UTC:20260223T210000
DTSTAMP:20260424T155920
CREATED:20251114T114922Z
LAST-MODIFIED:20251114T114922Z
UID:5802-1771873200-1771880400@gs-cn.de
SUMMARY:Elternratssitzung
DESCRIPTION:
URL:https://gs-cn.de/event/elternratssitzung-2/
LOCATION:Aula der Grundschule Curslack\, Gramkowweg 5\, Neuengamme\, Hamburg\, 21039\, Deutschland
END:VEVENT
BEGIN:VEVENT
DTSTART;VALUE=DATE:20260216
DTEND;VALUE=DATE:20260217
DTSTAMP:20260424T155920
CREATED:20250930T163247Z
LAST-MODIFIED:20250930T163247Z
UID:5615-1771200000-1771286399@gs-cn.de
SUMMARY:Schulfasching
DESCRIPTION:Schulfasching
URL:https://gs-cn.de/event/schulfasching/
LOCATION:Hamburg
END:VEVENT
BEGIN:VEVENT
DTSTART;VALUE=DATE:20260204
DTEND;VALUE=DATE:20260205
DTSTAMP:20260424T155920
CREATED:20250930T163038Z
LAST-MODIFIED:20260122T124345Z
UID:5609-1770163200-1770249599@gs-cn.de
SUMMARY:Unterrichtsfreier Tag (Lernentwicklungsgespräche)
DESCRIPTION:Unterrichtsfreier Tag für die VSK und die Klassen 1a/b/c\,\n2a/b/c/d und 3a/c wegen der Lernentwicklungsgespräche\n(Notbetreuung am Schulvormittag\, aber das Mittagessen und die Betreuung am\nNachmittag finden planmäßig statt.)\nDie Klassen 4a/b/c\, 3b haben an diesem Tag regulären Unterricht!
URL:https://gs-cn.de/event/unterrichtsfreier-tag-lernentwicklungsgespraeche/
LOCATION:Hamburg
END:VEVENT
BEGIN:VEVENT
DTSTART;VALUE=DATE:20260202
DTEND;VALUE=DATE:20260207
DTSTAMP:20260424T155920
CREATED:20250930T163128Z
LAST-MODIFIED:20250930T163128Z
UID:5611-1769990400-1770422399@gs-cn.de
SUMMARY:Anmeldung der Viertklässler an den weiterführenden Schulen
DESCRIPTION:Anmeldung der Viertklässler an den weiterführenden Schulen
URL:https://gs-cn.de/event/anmeldung-der-viertklaessler-an-den-weiterfuehrenden-schulen/
LOCATION:Hamburg
END:VEVENT
BEGIN:VEVENT
DTSTART;VALUE=DATE:20260202
DTEND;VALUE=DATE:20260207
DTSTAMP:20260424T155920
CREATED:20250930T162936Z
LAST-MODIFIED:20250930T162936Z
UID:5607-1769990400-1770422399@gs-cn.de
SUMMARY:Lernentwicklungsgespräche
DESCRIPTION:Lernentwicklungsgespräche VSK\, Klassen 1a/b/c\, 2a/b/c/d und 3a/b/c
URL:https://gs-cn.de/event/lernentwicklungsgespraeche-2/
LOCATION:Hamburg
END:VEVENT
BEGIN:VEVENT
DTSTART;VALUE=DATE:20260202
DTEND;VALUE=DATE:20260203
DTSTAMP:20260424T155920
CREATED:20250930T163210Z
LAST-MODIFIED:20250930T163210Z
UID:5613-1769990400-1770076799@gs-cn.de
SUMMARY:Studientag für alle Erzieher/innen (Kein Mittagessen\, keine Notbetreuung)
DESCRIPTION:Studientag für alle Erzieher/innen (Kein Mittagessen\, keine Notbetreuung)
URL:https://gs-cn.de/event/studientag-fuer-alle-erzieher-innen-kein-mittagessen-keine-notbetreuung-2/
LOCATION:Hamburg
END:VEVENT
BEGIN:VEVENT
DTSTART;VALUE=DATE:20260201
DTEND;VALUE=DATE:20260401
DTSTAMP:20260424T155920
CREATED:20250930T162842Z
LAST-MODIFIED:20250930T162842Z
UID:5605-1769904000-1775001599@gs-cn.de
SUMMARY:Alle Eltern (Klassen 1-3) buchen die Ganztagsbetreuung (GBS) für das neue Schulj.
DESCRIPTION:Alle Eltern (Klassen 1-3) buchen die Ganztagsbetreuung (GBS) für das neue\nSchulj.
URL:https://gs-cn.de/event/alle-eltern-klassen-1-3-buchen-die-ganztagsbetreuung-gbs-fuer-das-neue-schulj/
LOCATION:Hamburg
END:VEVENT
BEGIN:VEVENT
DTSTART;VALUE=DATE:20260130
DTEND;VALUE=DATE:20260131
DTSTAMP:20260424T155920
CREATED:20250930T162738Z
LAST-MODIFIED:20250930T162738Z
UID:5603-1769731200-1769817599@gs-cn.de
SUMMARY:Ferientag : H a l b j a h r e s p a u s e
DESCRIPTION:Ferientag : H a l b j a h r e s p a u s e in Hamburg\nGanztagsbetreuung (GBS): Eltern konnten die Betreuung für ihre Kinder buchen.
URL:https://gs-cn.de/event/ferientag-h-a-l-b-j-a-h-r-e-s-p-a-u-s-e/
LOCATION:Hamburg
END:VEVENT
BEGIN:VEVENT
DTSTART;VALUE=DATE:20260129
DTEND;VALUE=DATE:20260130
DTSTAMP:20260424T155920
CREATED:20250930T162247Z
LAST-MODIFIED:20250930T162247Z
UID:5601-1769644800-1769731199@gs-cn.de
SUMMARY:Zeugnisausgabe Klassen 4a/b/c
DESCRIPTION:Zeugnisausgabe Klassen 4a/b/c
URL:https://gs-cn.de/event/zeugnisausgabe-klassen-4a-b-c/
LOCATION:Hamburg
END:VEVENT
BEGIN:VEVENT
DTSTART;TZID=UTC:20260113T190000
DTEND;TZID=UTC:20260113T210000
DTSTAMP:20260424T155920
CREATED:20251114T114824Z
LAST-MODIFIED:20251114T114824Z
UID:5798-1768330800-1768338000@gs-cn.de
SUMMARY:Elternratssitzung
DESCRIPTION:
URL:https://gs-cn.de/event/elternratssitzung/
LOCATION:Aula der Grundschule Curslack\, Gramkowweg 5\, Neuengamme\, Hamburg\, 21039\, Deutschland
END:VEVENT
BEGIN:VEVENT
DTSTART;VALUE=DATE:20260109
DTEND;VALUE=DATE:20260110
DTSTAMP:20260424T155920
CREATED:20260108T115252Z
LAST-MODIFIED:20260108T115252Z
UID:6015-1767916800-1768003199@gs-cn.de
SUMMARY:Präsenzunterricht entfällt - Notbetreuung sichergestellt
DESCRIPTION:Aufgrund der vorliegenden Wettervorhersage haben wir die Information aus der Schulbehörde erhalten\, dass der reguläre schulische Unterricht am Freitag\, dem 09.01.2026\, nicht stattfinden wird. \nAlle Schülerinnen und Schüler werden mit Arbeitsmaterialien ausgestattet\, die zu Hause erledigt werden sollen. \nIn den Schulen wird eine Ganztagsnotbetreuung für unterrichtliche und außerunterrichtliche Zeiten sichergestellt. Wenn Ihr Kind zu Hause bleibt\, schicken Sie bitte keine Mail. \nDie Caterer wurden über die Entscheidung der Schulbehörde informiert.  Nach Rücksprache mit dem Caterer werden wir nicht beliefert. Alle Buchungen werden im System storniert. Kinder in der Notbetreuung bringen bitte ausreichend eigenes Essen mit. \nÜber das Vorgehen ab Montag\, dem 12.01.2026\, werden wir Sie rechtzeitig informieren. Bitte prüfen Sie vor Wochenbeginn Ihre Mails bzw. eventuelle Nachrichten Ihrer Elternvertreter/innen.
URL:https://gs-cn.de/event/praesenzunterricht-entfaellt-notbetreuung-sichergestellt/
LOCATION:Grundschule Curslack-Neuengamme\, Gramkowweg 5\, Hamburg\, 21039\, Deutschland
END:VEVENT
BEGIN:VEVENT
DTSTART;VALUE=DATE:20260105
DTEND;VALUE=DATE:20260124
DTSTAMP:20260424T155920
CREATED:20250930T162207Z
LAST-MODIFIED:20250930T162207Z
UID:5599-1767571200-1769212799@gs-cn.de
SUMMARY:Anmeldung der Kinder für die Klasse 1 im Schuljahr 2026/27
DESCRIPTION:Anmeldung der Kinder für die Klasse 1 im Schuljahr 2026/27
URL:https://gs-cn.de/event/anmeldung-der-kinder-fuer-die-klasse-1-im-schuljahr-2026-27/
LOCATION:Hamburg
END:VEVENT
BEGIN:VEVENT
DTSTART;VALUE=DATE:20251217
DTEND;VALUE=DATE:20260103
DTSTAMP:20260424T155920
CREATED:20250930T161932Z
LAST-MODIFIED:20250930T161958Z
UID:5594-1765929600-1767398399@gs-cn.de
SUMMARY:Weihnachtsferien und Ganztagsbetreuung
DESCRIPTION:17.12.2025-02.01.2026 W e i h n a c h t s f e r i e n\n22./23./29./30.12.2025 Ganztagsbetreuung (GBS): Schließtage mit Betreuung am Standort: Altengamme\nund 02.01.2026 Eltern konnten die Betreuung für ihre Kinder buchen
URL:https://gs-cn.de/event/weihnachtsferien-und-ganztagsbetreuung/
LOCATION:Hamburg
END:VEVENT
BEGIN:VEVENT
DTSTART;VALUE=DATE:20251216
DTEND;VALUE=DATE:20251217
DTSTAMP:20260424T155920
CREATED:20250930T161605Z
LAST-MODIFIED:20250930T161605Z
UID:5590-1765843200-1765929599@gs-cn.de
SUMMARY:Weihnachtsfeier für alle Klassen in der Kirche
DESCRIPTION:Weihnachtsfeier für alle Klassen in der Kirche (Die Kinder gestalten diese\nVeranstaltung.) Leider nicht für Eltern!
URL:https://gs-cn.de/event/weihnachtsfeier-fuer-alle-klassen-in-der-kirche-2/
LOCATION:Hamburg
END:VEVENT
BEGIN:VEVENT
DTSTART;TZID=UTC:20251201T081500
DTEND;TZID=UTC:20251201T083000
DTSTAMP:20260424T155920
CREATED:20251119T075548Z
LAST-MODIFIED:20251119T075548Z
UID:5814-1764576900-1764577800@gs-cn.de
SUMMARY:Adventssingen
DESCRIPTION:
URL:https://gs-cn.de/event/adventssingen-2/
LOCATION:Grundschule Curslack-Neuengamme\, Gramkowweg 5\, Hamburg\, 21039\, Deutschland
END:VEVENT
BEGIN:VEVENT
DTSTART;TZID=UTC:20251211T173000
DTEND;TZID=UTC:20251211T183000
DTSTAMP:20260424T155920
CREATED:20251119T080317Z
LAST-MODIFIED:20251204T104019Z
UID:5819-1765474200-1765477800@gs-cn.de
SUMMARY:Lebendiger Adventskalender
DESCRIPTION:Der „lebendige Adventskalender“ trifft sich vor unserer Schule.
URL:https://gs-cn.de/event/lebendiger-adventskalender/
LOCATION:Grundschule Curslack-Neuengamme\, Gramkowweg 5\, Hamburg\, 21039\, Deutschland
END:VEVENT
BEGIN:VEVENT
DTSTART;TZID=UTC:20251201T081500
DTEND;TZID=UTC:20251201T083000
DTSTAMP:20260424T155920
CREATED:20251119T075548Z
LAST-MODIFIED:20251119T075548Z
UID:5814-1764576900-1764577800@gs-cn.de
SUMMARY:Adventssingen
DESCRIPTION:
URL:https://gs-cn.de/event/adventssingen-2/
LOCATION:Grundschule Curslack-Neuengamme\, Gramkowweg 5\, Hamburg\, 21039\, Deutschland
END:VEVENT
BEGIN:VEVENT
DTSTART;VALUE=DATE:20251205
DTEND;VALUE=DATE:20251206
DTSTAMP:20260424T155920
CREATED:20251119T075850Z
LAST-MODIFIED:20251205T104949Z
UID:5817-1764892800-1764979199@gs-cn.de
SUMMARY:Nikolaus bei uns in der Schule
DESCRIPTION:Der Nikolaus kommt zu uns in die Schule!
URL:https://gs-cn.de/event/nikolaus/
LOCATION:Grundschule Curslack-Neuengamme\, Gramkowweg 5\, Hamburg\, 21039\, Deutschland
END:VEVENT
BEGIN:VEVENT
DTSTART;TZID=UTC:20251201T081500
DTEND;TZID=UTC:20251201T083000
DTSTAMP:20260424T155920
CREATED:20251119T075548Z
LAST-MODIFIED:20251119T075548Z
UID:5814-1764576900-1764577800@gs-cn.de
SUMMARY:Adventssingen
DESCRIPTION:
URL:https://gs-cn.de/event/adventssingen-2/
LOCATION:Grundschule Curslack-Neuengamme\, Gramkowweg 5\, Hamburg\, 21039\, Deutschland
END:VEVENT
BEGIN:VEVENT
DTSTART;VALUE=DATE:20251128
DTEND;VALUE=DATE:20251129
DTSTAMP:20260424T155920
CREATED:20250930T161505Z
LAST-MODIFIED:20251119T071419Z
UID:5588-1764288000-1764374399@gs-cn.de
SUMMARY:Studientag für alle Erzieher*innen (keine Frühbetreuung\, kein Mittagessen\, keine Betreuung am Nachmittag)
DESCRIPTION:Studientag für alle Erzieher/innen. Es finden keine Frühbetreuung\, kein Mittagessen und keine Betreuung am Nachmittag statt. \nFür alle Kinder endet der Schultag um 13.15 Uhr. \nAusnahme: Alle Vorschulkinder gehen wie immer in der 5. Unterrichtsstunde zum Mittagessen. \n 
URL:https://gs-cn.de/event/studientag-fuer-alle-erzieher-innen-kein-mittagessen-keine-notbetreuung/
LOCATION:Hamburg
END:VEVENT
BEGIN:VEVENT
DTSTART;TZID=UTC:20251126T160000
DTEND;TZID=UTC:20251126T180000
DTSTAMP:20260424T155920
CREATED:20250930T161436Z
LAST-MODIFIED:20251105T080744Z
UID:5586-1764172800-1764180000@gs-cn.de
SUMMARY:Tag der offenen Tür
DESCRIPTION:Tag der offenen Tür für alle Kinder und Eltern der Schule und interessierte Familien mit zukünftigen Schulkindern. \nSIE ERWARTET EIN BUNTES SCHULFEST: \n\nEntdecken Sie unser Schulgelände zusammen mit unserer Schulleitung und erfahren Aktuelles zum Neu- und Umbau\nLernen Sie unsere tolle Schulgemeinschaft kennen\nBesuchen Sie die Ausstellungen\, Bastel- und Schnupperangebote unserer Klassen\nErkunden Sie die bunte Welt der Mathematik in unserer Sinuswerkstatt\nErfahren Sie Interessantes über die Ganztagsbetreuung an unserer Schule\nLassen Sie sich verzaubern von einer Aufführung der Artistengruppe\nGenießen Sie süße Leckereien und stärken sich mit einem vorweihnachtlichen Punsch\nSie haben Fragen? Kein Problem! Lernen Sie unser Team aus Lehrkräften und Erzieher/innen in persönlichen Gesprächen kennen und unterhalten Sie sich mit Mitgliedern unseres Elternrats\n\nTag der offenen Tür
URL:https://gs-cn.de/event/tag-der-offenen-tuer-2/
LOCATION:Grundschule Curslack-Neuengamme\, Gramkowweg 5\, Hamburg\, 21039\, Deutschland
END:VEVENT
BEGIN:VEVENT
DTSTART;VALUE=DATE:20251117
DTEND;VALUE=DATE:20251122
DTSTAMP:20260424T155920
CREATED:20250930T161400Z
LAST-MODIFIED:20251114T070524Z
UID:5584-1763337600-1763769599@gs-cn.de
SUMMARY:Projektwoche „Lesewoche“ mit Bücherflohmarkt am 21.11.2025
DESCRIPTION:Projektwoche „Lesewoche“ mit Bücherflohmarkt am 21.11.2025 \nWir führen vom 17.-21. November in allen Klassen eine Projektwoche\, unsere alljährliche „Lesewoche“\, durch. Die Kinder werden in den Klassen auf vielfältige Art das Lesen trainieren oder zu den gelesenen Texten arbeiten (z.B. ein Lesetagebuch anfertigen\, einzelne Szenen gestalten\, Lesespiele durch- führen\, Bastelarbeiten anfertigen usw.). Auch unsere Vorschulklasse ist natürlich dabei und arbeitet in gleicher Weise zu Bilderbüchern oder Hörtexten. \nJeder Unterrichtstag beginnt wieder mit einer Vorlesezeit durch die Lehrkräfte oder unsere Lesepaten (8.20-9.00 Uhr). Unter vielen verschiedenen Angeboten können die Kinder an jedem Morgen aussuchen\, aus welchem Buch sie sich vorlesen lassen möchten. Sie können täglich wechseln oder auch die ganze Woche dem gleichen Vorleser zuhören\, wenn ihnen das Buch sehr gefällt. \nAm Freitag (21. November) von 11.00 – ca. 11.45 Uhr findet unser Bücherflohmarkt in Turnhalle 1 statt. Die Kinder können hier alle Bücher\, die sie nicht mehr lesen möchten\, verkaufen und auch neue Bücher zu günstigen Preisen kaufen. Es sollte kein Buch mehr als 2 € kosten.
URL:https://gs-cn.de/event/projektwoche-lesewoche-mit-buecherflohmarkt-am-21-11-2025/
LOCATION:Hamburg
END:VEVENT
BEGIN:VEVENT
DTSTART;TZID=UTC:20251112T190000
DTEND;TZID=UTC:20251112T200000
DTSTAMP:20260424T155920
CREATED:20251106T124323Z
LAST-MODIFIED:20251106T124323Z
UID:5784-1762974000-1762977600@gs-cn.de
SUMMARY:Mitgliederversammlung des Schulvereins
DESCRIPTION:
URL:https://gs-cn.de/event/mitgliederversammlung-des-schulvereins/
LOCATION:Aula der Grundschule Curslack\, Gramkowweg 5\, Neuengamme\, Hamburg\, 21039\, Deutschland
END:VEVENT
BEGIN:VEVENT
DTSTART;VALUE=DATE:20251110
DTEND;VALUE=DATE:20251116
DTSTAMP:20260424T155920
CREATED:20250930T161145Z
LAST-MODIFIED:20250930T161145Z
UID:5580-1762732800-1763251199@gs-cn.de
SUMMARY:Lernentwicklungsgespräche Klassen 4a/b/c
DESCRIPTION:Lernentwicklungsgespräche Klassen 4a/b/c
URL:https://gs-cn.de/event/lernentwicklungsgespraeche-klassen-4a-b-c-2/
LOCATION:Hamburg
END:VEVENT
BEGIN:VEVENT
DTSTART;VALUE=DATE:20251110
DTEND;VALUE=DATE:20251111
DTSTAMP:20260424T155920
CREATED:20250930T161305Z
LAST-MODIFIED:20250930T161305Z
UID:5582-1762732800-1762819199@gs-cn.de
SUMMARY:Lernentwicklungsgespräche
DESCRIPTION:Unterrichtsfreier Tag für die Klassen 4a/b/c wegen der\nLernentwicklungsgespräche (Notbetreuung für Kl. 4a/b/c am\nSchulvormittag\, aber das Mittagessen und die GBS am Nachmittag finden\nplanmäßig statt.)\nDie anderen Klassen haben an diesem Tag regulären\nUnterricht!
URL:https://gs-cn.de/event/lernentwicklungsgespraeche/
LOCATION:Hamburg
END:VEVENT
END:VCALENDAR