BEGIN:VCALENDAR
VERSION:2.0
PRODID:-//Grundschule Curslack-Neuengamme - ECPv6.15.20//NONSGML v1.0//EN
CALSCALE:GREGORIAN
METHOD:PUBLISH
X-ORIGINAL-URL:https://gs-cn.de
X-WR-CALDESC:Veranstaltungen für Grundschule Curslack-Neuengamme
REFRESH-INTERVAL;VALUE=DURATION:PT1H
X-Robots-Tag:noindex
X-PUBLISHED-TTL:PT1H
BEGIN:VTIMEZONE
TZID:UTC
BEGIN:STANDARD
TZOFFSETFROM:+0000
TZOFFSETTO:+0000
TZNAME:UTC
DTSTART:20240101T000000
END:STANDARD
END:VTIMEZONE
BEGIN:VEVENT
DTSTART;VALUE=DATE:20250501
DTEND;VALUE=DATE:20250502
DTSTAMP:20260424T192221
CREATED:20240528T090947Z
LAST-MODIFIED:20250603T062519Z
UID:3667-1746057600-1746143999@gs-cn.de
SUMMARY:Feiertag
DESCRIPTION:
URL:https://gs-cn.de/event/feiertag-4/
LOCATION:Hamburg
END:VEVENT
BEGIN:VEVENT
DTSTART;VALUE=DATE:20250502
DTEND;VALUE=DATE:20250503
DTSTAMP:20260424T192221
CREATED:20240528T090924Z
LAST-MODIFIED:20240528T090924Z
UID:3665-1746144000-1746230399@gs-cn.de
SUMMARY:Ferientag
DESCRIPTION:
URL:https://gs-cn.de/event/ferientag-3/
LOCATION:Hamburg
END:VEVENT
BEGIN:VEVENT
DTSTART;VALUE=DATE:20250505
DTEND;VALUE=DATE:20250506
DTSTAMP:20260424T192221
CREATED:20240918T113257Z
LAST-MODIFIED:20250414T073149Z
UID:4102-1746403200-1746489599@gs-cn.de
SUMMARY:Studientag der Elbkinder
DESCRIPTION:Studientag der Elbkinder (GBS geschlossen\, kein Mittagessen\, keine Notbetreuung) \nAlle Kinder gehen um 13:15 Uhr nach Hause.
URL:https://gs-cn.de/event/studientag-der-elbkinder-3/
LOCATION:Hamburg
END:VEVENT
BEGIN:VEVENT
DTSTART;TZID=UTC:20250523T081500
DTEND;TZID=UTC:20250523T131500
DTSTAMP:20260424T192221
CREATED:20240918T113257Z
LAST-MODIFIED:20250512T062602Z
UID:4104-1747988100-1748006100@gs-cn.de
SUMMARY:“Sportspektakel” für alle Klassen
DESCRIPTION:Sportspektakel | Grundschule Curslack-Neuengamme
URL:https://gs-cn.de/event/sportspektakel-fuer-alle-klassen/
LOCATION:Grundschule Curslack-Neuengamme\, Gramkowweg 5\, Hamburg\, 21039\, Deutschland
END:VEVENT
BEGIN:VEVENT
DTSTART;VALUE=DATE:20250526
DTEND;VALUE=DATE:20250531
DTSTAMP:20260424T192221
CREATED:20240528T091121Z
LAST-MODIFIED:20240528T091121Z
UID:3669-1748217600-1748649599@gs-cn.de
SUMMARY:Maiferien
DESCRIPTION:
URL:https://gs-cn.de/event/maiferien-2/
LOCATION:Hamburg
END:VEVENT
END:VCALENDAR