BEGIN:VCALENDAR
VERSION:2.0
PRODID:-//Grundschule Curslack-Neuengamme - ECPv6.15.20//NONSGML v1.0//EN
CALSCALE:GREGORIAN
METHOD:PUBLISH
X-ORIGINAL-URL:https://gs-cn.de
X-WR-CALDESC:Veranstaltungen für Grundschule Curslack-Neuengamme
REFRESH-INTERVAL;VALUE=DURATION:PT1H
X-Robots-Tag:noindex
X-PUBLISHED-TTL:PT1H
BEGIN:VTIMEZONE
TZID:UTC
BEGIN:STANDARD
TZOFFSETFROM:+0000
TZOFFSETTO:+0000
TZNAME:UTC
DTSTART:20240101T000000
END:STANDARD
END:VTIMEZONE
BEGIN:VEVENT
DTSTART;VALUE=DATE:20250602
DTEND;VALUE=DATE:20250603
DTSTAMP:20260424T211458
CREATED:20250514T070400Z
LAST-MODIFIED:20250515T053840Z
UID:5185-1748822400-1748908799@gs-cn.de
SUMMARY:GBS Betriebsversammlung
DESCRIPTION:Es findet an diesem Tag die Frühbetreuung regulär statt. Es gibt kein Mittagessen und keine Nachmittagsbetreuung. Für die Notbetreuung konnten Sie ihr Kind bis zum 09.05.25 anmelden. Bitte melden Sie Ihr Kind selbstständig zum Mittagessen an\, wenn es für die Notbetreuung angemeldet wurde. \nDer Chor und die Sprachförderung sind schulpflichtige Veranstaltungen und finden regulär statt. \nAlle anderen Kinder gehen um 13:15 Uhr nach Hause.
URL:https://gs-cn.de/event/gbs-betriebsversammlung-2/
LOCATION:Hamburg
END:VEVENT
BEGIN:VEVENT
DTSTART;VALUE=DATE:20250609
DTEND;VALUE=DATE:20250610
DTSTAMP:20260424T211458
CREATED:20250603T072416Z
LAST-MODIFIED:20250603T072416Z
UID:5241-1749427200-1749513599@gs-cn.de
SUMMARY:Feiertag
DESCRIPTION:
URL:https://gs-cn.de/event/feiertag-6/
LOCATION:Hamburg
END:VEVENT
BEGIN:VEVENT
DTSTART;TZID=UTC:20250621T130000
DTEND;TZID=UTC:20250621T133000
DTSTAMP:20260424T211458
CREATED:20250604T065851Z
LAST-MODIFIED:20250604T071026Z
UID:5245-1750510800-1750512600@gs-cn.de
SUMMARY:Chorauftritt beim Erdbeerfest
DESCRIPTION:Liebe Schülerinnen und Schüler\, \nliebe Eltern und Freunde\, wir freuen uns\, euch mitteilen zu können\, dass unser Schulchor am 21. Juni 2025 um 13:00 Uhr beim diesjährigen Erdbeerfest auftritt! 🎶🍓 \nDer Chor hat in den letzten Wochen intensiv geprobt und die Vorfreude ist groß. Unser Programm wird eine Mischung aus fröhlichen Melodien und sommerlichen Klängen umfassen\, die perfekt zur festlichen Stimmung des Erdbeerfests passen werden. Kommt vorbei\, unterstützt unseren Chor und genießt gemeinsam mit uns die Leckereien und Attraktionen des Festes. \nWir freuen uns auf zahlreiches Erscheinen und darauf\, mit euch einen unvergesslichen Nachmittag zu verbringen! \nMit musikalischen Grüßen\, Euer Schulchor-Team
URL:https://gs-cn.de/event/chorauftritt-beim-erdbeerfest/
LOCATION:Hamburg
END:VEVENT
END:VCALENDAR