BEGIN:VCALENDAR
VERSION:2.0
PRODID:-//Grundschule Curslack-Neuengamme - ECPv6.15.20//NONSGML v1.0//EN
CALSCALE:GREGORIAN
METHOD:PUBLISH
X-WR-CALNAME:Grundschule Curslack-Neuengamme
X-ORIGINAL-URL:https://gs-cn.de
X-WR-CALDESC:Veranstaltungen für Grundschule Curslack-Neuengamme
REFRESH-INTERVAL;VALUE=DURATION:PT1H
X-Robots-Tag:noindex
X-PUBLISHED-TTL:PT1H
BEGIN:VTIMEZONE
TZID:UTC
BEGIN:STANDARD
TZOFFSETFROM:+0000
TZOFFSETTO:+0000
TZNAME:UTC
DTSTART:20240101T000000
END:STANDARD
END:VTIMEZONE
BEGIN:VEVENT
DTSTART;VALUE=DATE:20250724
DTEND;VALUE=DATE:20250904
DTSTAMP:20260425T023648
CREATED:20240528T091923Z
LAST-MODIFIED:20240528T091923Z
UID:3671-1753315200-1756943999@gs-cn.de
SUMMARY:Sommerferien
DESCRIPTION:24.07.2025 Schließtag der GBS  \n25.07.2025 Schließtag der GBS mit Notbetreuung in Zollenspieker \n28.07.– 08.08.2025 Schließtage der GBS – mit Notbetreuung in Altengamme  \n01.09.– 03.09.2025 Schließtage der GBS – mit Notbetreuung in Curslack \n 
URL:https://gs-cn.de/event/sommerferien-2/
LOCATION:Hamburg
END:VEVENT
BEGIN:VEVENT
DTSTART;VALUE=DATE:20250904
DTEND;VALUE=DATE:20250905
DTSTAMP:20260425T023648
CREATED:20240918T113218Z
LAST-MODIFIED:20240918T113218Z
UID:4112-1756944000-1757030399@gs-cn.de
SUMMARY:Erster Schultag nach den Ferien
DESCRIPTION:
URL:https://gs-cn.de/event/erster-schultag-nach-den-ferien-2/
LOCATION:Hamburg
END:VEVENT
BEGIN:VEVENT
DTSTART;VALUE=DATE:20250908
DTEND;VALUE=DATE:20251002
DTSTAMP:20260425T023648
CREATED:20250930T155923Z
LAST-MODIFIED:20250930T155923Z
UID:5558-1757289600-1759363199@gs-cn.de
SUMMARY:Elternabende in den Klassen
DESCRIPTION:Elternabende in den Klassen (Sie erhalten eine Einladung von den\nKlassenlehrer/innen.)\n22.09.2025 18.00 Uhr: Elternabende Kl. 4a\, 4b\, 4c\nCa. 18.-18.30 Uhr Informationsveranst. zum Übergang in\nKl. 5 für interessierte Eltern\nAnschl. Elternabende in den Klassen
URL:https://gs-cn.de/event/elternabende-in-den-klassen/
LOCATION:Hamburg
END:VEVENT
BEGIN:VEVENT
DTSTART;VALUE=DATE:20250909
DTEND;VALUE=DATE:20250910
DTSTAMP:20260425T023648
CREATED:20250603T061427Z
LAST-MODIFIED:20250603T061427Z
UID:5220-1757376000-1757462399@gs-cn.de
SUMMARY:Einschulung Erstklässler
DESCRIPTION:
URL:https://gs-cn.de/event/einschulung-erstklaessler-2/
LOCATION:Aula der Grundschule Curslack\, Gramkowweg 5\, Neuengamme\, Hamburg\, 21039\, Deutschland
END:VEVENT
BEGIN:VEVENT
DTSTART;VALUE=DATE:20250909
DTEND;VALUE=DATE:20250910
DTSTAMP:20260425T023648
CREATED:20250930T155322Z
LAST-MODIFIED:20250930T155322Z
UID:5554-1757376000-1757462399@gs-cn.de
SUMMARY:Einschulung Klasse 1
DESCRIPTION:8.45 Uhr Einschulung Klasse 1a (Frau Rohde)\n10.00 Uhr Einschulung Klasse 1b (Frau Roth)\n11.15 Uhr Einschulung Klasse 1c (Frau Heiderich\, Frau Müller)
URL:https://gs-cn.de/event/einschulung-klasse-1/
LOCATION:Hamburg
END:VEVENT
BEGIN:VEVENT
DTSTART;VALUE=DATE:20250910
DTEND;VALUE=DATE:20250911
DTSTAMP:20260425T023648
CREATED:20250603T061504Z
LAST-MODIFIED:20250603T061504Z
UID:5222-1757462400-1757548799@gs-cn.de
SUMMARY:Einschulung Vorschulklassen
DESCRIPTION:
URL:https://gs-cn.de/event/einschulung-vorschulklassen-2/
LOCATION:Aula der Grundschule Curslack\, Gramkowweg 5\, Neuengamme\, Hamburg\, 21039\, Deutschland
END:VEVENT
BEGIN:VEVENT
DTSTART;VALUE=DATE:20250910
DTEND;VALUE=DATE:20250911
DTSTAMP:20260425T023648
CREATED:20250930T155822Z
LAST-MODIFIED:20250930T155822Z
UID:5556-1757462400-1757548799@gs-cn.de
SUMMARY:Aufnahme der Vorschüler
DESCRIPTION:9.00 Uhr Aufnahme der Vorschüler
URL:https://gs-cn.de/event/aufnahme-der-vorschueler/
LOCATION:Hamburg
END:VEVENT
BEGIN:VEVENT
DTSTART;VALUE=DATE:20250922
DTEND;VALUE=DATE:20251015
DTSTAMP:20260425T023648
CREATED:20250930T160251Z
LAST-MODIFIED:20250930T160251Z
UID:5562-1758499200-1760486399@gs-cn.de
SUMMARY:Start der zusätzl. Lernförderung in den Kl. 2-4
DESCRIPTION:Start der zusätzl. Lernförderung in den Kl. 2-4 (7.25-8.10 Uhr) im\n„Lernklub“ (Die Kinder erhalten eine persönl. Einladung.)\nStart der Sprachförderung (13.25-14.10 Uhr).
URL:https://gs-cn.de/event/start-der-zusaetzl-lernfoerderung-in-den-kl-2-4/
LOCATION:Hamburg
END:VEVENT
END:VCALENDAR