BEGIN:VCALENDAR
VERSION:2.0
PRODID:-//Grundschule Curslack-Neuengamme - ECPv6.15.20//NONSGML v1.0//EN
CALSCALE:GREGORIAN
METHOD:PUBLISH
X-ORIGINAL-URL:https://gs-cn.de
X-WR-CALDESC:Veranstaltungen für Grundschule Curslack-Neuengamme
REFRESH-INTERVAL;VALUE=DURATION:PT1H
X-Robots-Tag:noindex
X-PUBLISHED-TTL:PT1H
BEGIN:VTIMEZONE
TZID:UTC
BEGIN:STANDARD
TZOFFSETFROM:+0000
TZOFFSETTO:+0000
TZNAME:UTC
DTSTART:20240101T000000
END:STANDARD
END:VTIMEZONE
BEGIN:VEVENT
DTSTART;VALUE=DATE:20250908
DTEND;VALUE=DATE:20251002
DTSTAMP:20260425T023310
CREATED:20250930T155923Z
LAST-MODIFIED:20250930T155923Z
UID:5558-1757289600-1759363199@gs-cn.de
SUMMARY:Elternabende in den Klassen
DESCRIPTION:Elternabende in den Klassen (Sie erhalten eine Einladung von den\nKlassenlehrer/innen.)\n22.09.2025 18.00 Uhr: Elternabende Kl. 4a\, 4b\, 4c\nCa. 18.-18.30 Uhr Informationsveranst. zum Übergang in\nKl. 5 für interessierte Eltern\nAnschl. Elternabende in den Klassen
URL:https://gs-cn.de/event/elternabende-in-den-klassen/
LOCATION:Hamburg
END:VEVENT
BEGIN:VEVENT
DTSTART;VALUE=DATE:20250922
DTEND;VALUE=DATE:20251015
DTSTAMP:20260425T023310
CREATED:20250930T160251Z
LAST-MODIFIED:20250930T160251Z
UID:5562-1758499200-1760486399@gs-cn.de
SUMMARY:Start der zusätzl. Lernförderung in den Kl. 2-4
DESCRIPTION:Start der zusätzl. Lernförderung in den Kl. 2-4 (7.25-8.10 Uhr) im\n„Lernklub“ (Die Kinder erhalten eine persönl. Einladung.)\nStart der Sprachförderung (13.25-14.10 Uhr).
URL:https://gs-cn.de/event/start-der-zusaetzl-lernfoerderung-in-den-kl-2-4/
LOCATION:Hamburg
END:VEVENT
BEGIN:VEVENT
DTSTART;VALUE=DATE:20251003
DTEND;VALUE=DATE:20251004
DTSTAMP:20260425T023310
CREATED:20250603T061622Z
LAST-MODIFIED:20251001T093923Z
UID:5224-1759449600-1759535999@gs-cn.de
SUMMARY:Feiertag
DESCRIPTION:F e i e r t a g (Keine Betreuung in der Schule)
URL:https://gs-cn.de/event/feiertag/
LOCATION:Hamburg
END:VEVENT
BEGIN:VEVENT
DTSTART;VALUE=DATE:20251006
DTEND;VALUE=DATE:20251009
DTSTAMP:20260425T023310
CREATED:20250917T072049Z
LAST-MODIFIED:20251001T092517Z
UID:5481-1759708800-1759967999@gs-cn.de
SUMMARY:Schulfotograf
DESCRIPTION:Vom 6.-8.10.25 kommt der Schulfotograf zu uns (Sie haben bereits einen Brief erhalten.). \nMontag\, 06.10.2025: 1a\, 2c\, 2d\, 3c\, 4b \nDienstag\, 07.10.25: 1b\, 2a\, 3b\, 4a\, 4c \nMittwoch\, 08.10.2025: VSKa\, VSKb\,1c\, 2b\, 3a \nIhr Kind wird nur fotografiert\, wenn Sie es online anmelden. Die Anmeldung ist bis zum 29.09.25 (Mo) möglich. \nFototermine FotoHerbst
URL:https://gs-cn.de/event/schulfotograf-2/
LOCATION:Grundschule Curslack-Neuengamme\, Gramkowweg 5\, Hamburg\, 21039\, Deutschland
END:VEVENT
BEGIN:VEVENT
DTSTART;TZID=UTC:20251009T180000
DTEND;TZID=UTC:20251009T203000
DTSTAMP:20260425T023310
CREATED:20250930T160641Z
LAST-MODIFIED:20250930T160641Z
UID:5568-1760032800-1760041800@gs-cn.de
SUMMARY:Vollversammlung
DESCRIPTION:18.00 Uhr Vollversammlung des Schulvereins für alle\nMitglieder und Interessenten (Lehrerzimmer)\n19.00 Uhr Elternvollversammlung der Schule mit\nElternratswahl (Aula) und Anwesenheit des GBS-Beirates\nAlle Eltern sind herzlich eingeladen!!!
URL:https://gs-cn.de/event/vollversammlung/
LOCATION:Hamburg
END:VEVENT
BEGIN:VEVENT
DTSTART;VALUE=DATE:20251015
DTEND;VALUE=DATE:20251016
DTSTAMP:20260425T023310
CREATED:20250930T160113Z
LAST-MODIFIED:20250930T160113Z
UID:5560-1760486400-1760572799@gs-cn.de
SUMMARY:Start der Nachmittagsangebote im Ganztag
DESCRIPTION:Start der Nachmittagsangebote im Ganztag
URL:https://gs-cn.de/event/start-der-nachmittagsangebote-im-ganztag/
LOCATION:Hamburg
END:VEVENT
BEGIN:VEVENT
DTSTART;TZID=UTC:20251015T101500
DTEND;TZID=UTC:20251015T114000
DTSTAMP:20260425T023310
CREATED:20251002T062817Z
LAST-MODIFIED:20251008T053023Z
UID:5670-1760523300-1760528400@gs-cn.de
SUMMARY:Herbstsingen
DESCRIPTION:Der Herbst\, der Herbst\, der Herbst ist da… \nJedes Jahr im Herbst findet unser traditionelles Herbstsingen in unserer Aula statt.
URL:https://gs-cn.de/event/herbstsingen-2/
LOCATION:Aula der Grundschule Curslack\, Gramkowweg 5\, Neuengamme\, Hamburg\, 21039\, Deutschland
END:VEVENT
BEGIN:VEVENT
DTSTART;TZID=UTC:20251017T081500
DTEND;TZID=UTC:20251017T131500
DTSTAMP:20260425T023310
CREATED:20250930T160737Z
LAST-MODIFIED:20251001T093102Z
UID:5570-1760688900-1760706900@gs-cn.de
SUMMARY:Spendenlauf aller Klassen
DESCRIPTION:Spendenlauf aller Klassen (Information per Elternbrief) \nZEITPLAN für den Lauftag: \n8:45 Uhr: Start Kl. 1a\, 1b und 1c\n9.15 Uhr: Start VSK a und VSK b \nPAUSE 9:45 bis 10:10 Uhr \n10.20 Uhr: Start 2a\, 2b\, 2c\, und 2d\n10.50 Uhr : Start 3a\, 3b und 3c \nPAUSE 11:40-12.10 Uhr \n12.20 Uhr: Start 4a\, 4b\, 4c \nENDE 13:10 Uhr \nSpendenlauf
URL:https://gs-cn.de/event/spendenlauf-aller-klassen/
LOCATION:Hamburg
END:VEVENT
BEGIN:VEVENT
DTSTART;VALUE=DATE:20251020
DTEND;VALUE=DATE:20251101
DTSTAMP:20260425T023310
CREATED:20250930T160827Z
LAST-MODIFIED:20250930T160916Z
UID:5572-1760918400-1761955199@gs-cn.de
SUMMARY:H e r b s t f e r i e n
DESCRIPTION:H e r b s t f e r i e n\nIm Rahmen der Ganztagsbetreuung (GBS) wird ein Ferienprogramm angeboten\,\nEltern konnten die Betreuung für ihre Kinder buchen.
URL:https://gs-cn.de/event/h-e-r-b-s-t-f-e-r-i-e-n/
LOCATION:Hamburg
END:VEVENT
BEGIN:VEVENT
DTSTART;VALUE=DATE:20251031
DTEND;VALUE=DATE:20251101
DTSTAMP:20260425T023310
CREATED:20250603T061742Z
LAST-MODIFIED:20250603T062243Z
UID:5226-1761868800-1761955199@gs-cn.de
SUMMARY:Feiertag
DESCRIPTION:
URL:https://gs-cn.de/event/feiertag-2/
LOCATION:Hamburg
END:VEVENT
END:VCALENDAR