BEGIN:VCALENDAR
VERSION:2.0
PRODID:-//Grundschule Curslack-Neuengamme - ECPv6.15.20//NONSGML v1.0//EN
CALSCALE:GREGORIAN
METHOD:PUBLISH
X-ORIGINAL-URL:https://gs-cn.de
X-WR-CALDESC:Veranstaltungen für Grundschule Curslack-Neuengamme
REFRESH-INTERVAL;VALUE=DURATION:PT1H
X-Robots-Tag:noindex
X-PUBLISHED-TTL:PT1H
BEGIN:VTIMEZONE
TZID:UTC
BEGIN:STANDARD
TZOFFSETFROM:+0000
TZOFFSETTO:+0000
TZNAME:UTC
DTSTART:20250101T000000
END:STANDARD
END:VTIMEZONE
BEGIN:VEVENT
DTSTART;TZID=UTC:20260702T190000
DTEND;TZID=UTC:20260702T210000
DTSTAMP:20260424T211058
CREATED:20251114T115254Z
LAST-MODIFIED:20251114T115254Z
UID:5808-1783018800-1783026000@gs-cn.de
SUMMARY:Elternratssitzung
DESCRIPTION:
URL:https://gs-cn.de/event/elternratssitzung-5/
LOCATION:Aula der Grundschule Curslack\, Gramkowweg 5\, Neuengamme\, Hamburg\, 21039\, Deutschland
END:VEVENT
BEGIN:VEVENT
DTSTART;VALUE=DATE:20260707
DTEND;VALUE=DATE:20260708
DTSTAMP:20260424T211058
CREATED:20250930T164341Z
LAST-MODIFIED:20250930T164341Z
UID:5636-1783382400-1783468799@gs-cn.de
SUMMARY:Zeugnisausgabe Klassen 1-4
DESCRIPTION:Zeugnisausgabe Klassen 1-4
URL:https://gs-cn.de/event/zeugnisausgabe-klassen-1-4/
LOCATION:Hamburg
END:VEVENT
BEGIN:VEVENT
DTSTART;VALUE=DATE:20260708
DTEND;VALUE=DATE:20260709
DTSTAMP:20260424T211058
CREATED:20250930T164428Z
LAST-MODIFIED:20250930T164428Z
UID:5638-1783468800-1783555199@gs-cn.de
SUMMARY:Letzter Schultag vor den Sommerferien\, Verabschiedung der Viertklässler
DESCRIPTION:Letzter Schultag vor den Sommerferien\, Verabschiedung der Viertklässler
URL:https://gs-cn.de/event/letzter-schultag-vor-den-sommerferien-verabschiedung-der-viertklaessler/
LOCATION:Hamburg
END:VEVENT
BEGIN:VEVENT
DTSTART;VALUE=DATE:20260709
DTEND;VALUE=DATE:20260820
DTSTAMP:20260424T211058
CREATED:20250930T164626Z
LAST-MODIFIED:20250930T164626Z
UID:5640-1783555200-1787183999@gs-cn.de
SUMMARY:Sommerferien
DESCRIPTION:S o m m e r f e r i e n\n10.07. Studientag für alle Erzieher/innen (mit Notbetreuung)\n03.08.-14.08. Schließzeit der Ganztagsbetreuung (GBS) – Betreuung findet in Altengamme statt
URL:https://gs-cn.de/event/sommerferien/
LOCATION:Hamburg
END:VEVENT
BEGIN:VEVENT
DTSTART;VALUE=DATE:20260717
DTEND;VALUE=DATE:20260718
DTSTAMP:20260424T211058
CREATED:20250930T164015Z
LAST-MODIFIED:20250930T164015Z
UID:5634-1784246400-1784332799@gs-cn.de
SUMMARY:Ersatztermin Sportspektakel („Schlechtwettervariante“)
DESCRIPTION:Ersatztermin Sportspektakel („Schlechtwettervariante“)
URL:https://gs-cn.de/event/ersatztermin-sportspektakel-schlechtwettervariante/
LOCATION:Hamburg
END:VEVENT
END:VCALENDAR